BEGIN:VCALENDAR
VERSION:2.0
PRODID:-//Library Market//iCal Export//EN
BEGIN:VEVENT
SUMMARY:Pesticides: Their Downsides and Alternatives
UID:12734
DTSTAMP:20260420T174800Z
DTSTART:20260504T220000Z
DTEND:20260505T000000Z
LOCATION:Mount Pleasant Public Library, 350 Bedford Rd, Pleasantville, NY 
 10570, United States
ROOM: Community Room
DESCRIPTION:Speaker: CAROLINE SEXTONRooted Solutions Coach for Bedford 203
 0Caroline is a Certified Advanced Master Gardener dedicated to restoring e
 cological balance in outdoor spaces. She holdscertificates in Urban Natura
 lism and Sustainable Garden Design from the New York Botanical Garden. Th
 is program is co-sponsored by: Pleasantville and Mount Pleasant Conservati
 on Advisory Councils and the Pleasantville Garden Club.  
URL:https://mountpleasant.librarycalendar.com/event/hold-cac-12734
END:VEVENT
END:VCALENDAR
