BEGIN:VCALENDAR
VERSION:2.0
PRODID:-//Library Market//iCal Export//EN
BEGIN:VEVENT
SUMMARY:Voice Recital
UID:13179
DTSTAMP:20260425T115400Z
DTSTART:20260516T190000Z
DTEND:20260516T200000Z
LOCATION:Mount Pleasant Public Library, 350 Bedford Rd, Pleasantville, NY 
 10570, United States
ROOM: Community Room
DESCRIPTION:A voice recital by the students of Nell Macdonald.This is a co
 mmunity sponsored event.
URL:https://mountpleasant.librarycalendar.com/event/hold-nell-macdonald-13
 179
END:VEVENT
END:VCALENDAR
